BEGIN:VCALENDAR
VERSION:2.0
PRODID:-//Reno Arts News - ECPv6.15.20//NONSGML v1.0//EN
CALSCALE:GREGORIAN
METHOD:PUBLISH
X-WR-CALNAME:Reno Arts News
X-ORIGINAL-URL:https://renoarts.news
X-WR-CALDESC:Events for Reno Arts News
REFRESH-INTERVAL;VALUE=DURATION:PT1H
X-Robots-Tag:noindex
X-PUBLISHED-TTL:PT1H
BEGIN:VTIMEZONE
TZID:America/Los_Angeles
BEGIN:DAYLIGHT
TZOFFSETFROM:-0800
TZOFFSETTO:-0700
TZNAME:PDT
DTSTART:20230312T100000
END:DAYLIGHT
BEGIN:STANDARD
TZOFFSETFROM:-0700
TZOFFSETTO:-0800
TZNAME:PST
DTSTART:20231105T090000
END:STANDARD
BEGIN:DAYLIGHT
TZOFFSETFROM:-0800
TZOFFSETTO:-0700
TZNAME:PDT
DTSTART:20240310T100000
END:DAYLIGHT
BEGIN:STANDARD
TZOFFSETFROM:-0700
TZOFFSETTO:-0800
TZNAME:PST
DTSTART:20241103T090000
END:STANDARD
BEGIN:DAYLIGHT
TZOFFSETFROM:-0800
TZOFFSETTO:-0700
TZNAME:PDT
DTSTART:20250309T100000
END:DAYLIGHT
BEGIN:STANDARD
TZOFFSETFROM:-0700
TZOFFSETTO:-0800
TZNAME:PST
DTSTART:20251102T090000
END:STANDARD
END:VTIMEZONE
BEGIN:VEVENT
DTSTART;TZID=America/Los_Angeles:20240126T000000
DTEND;TZID=America/Los_Angeles:20240204T235959
DTSTAMP:20260425T085016
CREATED:20240109T221339Z
LAST-MODIFIED:20240109T221339Z
UID:10442-1706227200-1707091199@renoarts.news
SUMMARY:EVERY BRILLIANT THING All The Amazing Things The Universe Has To Offer
DESCRIPTION:BRÜKA THEATRE’S THIRTY WONDERFUL SEASON – THE SHOW MUST GO ON \nEVERY BRILLIANT THING \nAll The Amazing Things The Universe Has To Offer \nWritten by Duncan Macmillan With Jonny Donahoe \nDirected By Holly Natwora Featuring Mary Bennett \nJanuary 26\, 27\, 31(A) February 1\, 2\, 3\, 2024 @ 7:30 PM \nSUNDAY Matinees: January 28 & February 4* @ 2 PM\nOnly 8 Performances! \nPlease Note: This play deals with suicide and its effects on those left behind. \nTICKETS: Senior/Student/Military $26 General Tickets $30 All Tickets $35 at the Door \nA = Artist Night $17 All Tickets \nEVERY BRILLIANT THING ONLINE TICKET LINK: https://www.bruka.org/boxoffice \nReno\, NV. The new year brings EVERY BRILLIANT THING written by Duncan Macmillan with Jonny Donahoe opening January 26th in sub-Brüka. Holly Natwora directs Mary Bennett in an interactive performance about how to get to the other side of grief with a list that takes on a life of its own. A beautiful and revelatory play about depression and the lengths we will go to for those we love while surviving the shadow of suicide. “[A] heart-wrenching\, hilarious play…One of the funniest plays you’ll ever see about depression—and possibly one of the funniest plays you’ll ever see\, full stop…There is something tough being confronted here—the guilt of not being able to make those we love happy—and it is explored with unflinching honesty.” —The Guardian (UK) \nADVISORY: Every Brilliant Thing is suitable for ages 16 and up. Mature Themes. This play deals with suicide and its effects on those left behind. \nEVERY BRILLIANT THING runs approximately 70 minutes. Evening shows begin at 7:30 pm. The Sunday matinees begin at 2:00 pm. The matinee on February 4 is followed by a talkback with the company and audience. The doors open a half an hour before curtain time. \nSHOW TIMES: All Brüka mainstage evening shows begin at 7:30 PM. Matinees begin at 2:00 PM. Doors open 30 minutes before curtain time. There is NO late seating. \nPRICES: General admission: $30. Admission for Students/Seniors/Military: $26. All tickets are $35 at the door. Additional Ticket fees will be incurred on all online and phone ticket transactions. All sales are final. Ticket exchanges incur a $3.66 per ticket fee\, space permitting. \nRESERVATIONS: In person or by phone through the Brüka Box Office (775) 323-3221. Online at http://www.bruka.org or at the Melting Pot World Emporium @ their location: 1049 S. Virginia Street\, Reno. Our box office is open Thursdays through Saturdays. From 3-6 PM and Wednesdays by appointment. \nPARKING: Court Street parking lot across from The Pioneer Theater. FREE after 5:00 PM weekdays and NO CHARGE on weekends. We validate 5 hour parking at the Parking Gallery on First and Sierra Street. Fee is $1 for the first 5 hours and $3 for every additional hour. \nABOUT BRÜKA THEATRE: Brüka Theatre enjoys its 31st season of live theatre in downtown Reno themed for the 2023/2024 season as “Thirty Wonderful – The Show Must Go On.” A full season of live theatre with season tickets and season auditions. An artistic leader in the region\, Brüka is recognized for innovative productions\, exceptionally talented artists and acclaimed Theatre for Children touring series since its founding in 1992. Central to Brüka is the commitment to the re-investigation of contemporary and classic plays and developing new plays within Brüka’s Artistic Collective\, a group that includes winners of the Nevada Arts Council and Sierra Arts Foundation artist grants and nine local best actor honors. Brüka was named “Best Theatre Company” by Reno News and Review for twenty-one years. Brüka is a constituent company of TCG (Theatre Communications Group). Brüka Theatre has produced over 200 shows in our downtown Reno location. Sign up for our newsletter by going to our website at http://www.bruka.org. \nMARY BENNETT – ACTOR Mary’s training and performances include American Conservatory Theater (San Francisco)\, Bay Area TheaterSports\, Upright Citizens Brigade (UCB) Dell’Arte International Theatre Company\, New York Stage & Film\, B Street Theater\, Reno Philharmonic\, Reno Jazz Orchestra\, Sierra Nevada Ballet\, Lake Tahoe Shakespeare Festival\, and Kennedy Center training as a teaching artist\, Arts Integration Specialist and mentor. Currently\, Producing Artistic Director of Brüka Theatre & Theater Artist-in-Residence with Nevada Arts Council and Sierra Arts Foundation. Her Dorothy Parker…Shivering and Sighing won Best of The San Francisco Fringe Festival\, and was performed in NYC\, June\, 2017. Named “Best Actor” in Reno News & Review ten times. Mary runs The Carson City Ghost Walk and has appeared on screen in Nowhere Nevada and Dear George\, and been commissioned for solo shows with NAMI and The Nevada Museum Of Art. Mary is currently the drama instructor at Doral Academy. \nHOLLY NATWORA – DIRECTOR – Holly received her MFA from Columbia University in NYC and has acted in over 75 plays including two summers at Joseph Papp’s New York Shakespeare Festival\, touring The Caucasian Chalk Circle in Berlin\, Germany and performing as Lady Macbeth in the first ever New York Fringe. Holly has also appeared in television and film\, most notably in Law & Order and Law & Order: Criminal Intent. Since moving to Reno in 2005\, she has performed or directed at the Brüka Theatre\, Reno Little Theatre\, Good Luck Macbeth\, and TheatreWorks of Northern Nevada. Holly currently teaches Theatre at Truckee Meadows Community College and Shakespeare for Social Justice at High Desert State Prison. She is the Operations Director at Brüka Theatre-her theatrical home.
URL:https://renoarts.news/event/every-brilliant-thing-all-the-amazing-things-the-universe-has-to-offer
LOCATION:Bruka Theatre\, 99 N Virginia St\, Reno\, NV\, 89501\, United States
CATEGORIES:Theatre Performance
END:VEVENT
BEGIN:VEVENT
DTSTART;TZID=America/Los_Angeles:20240201T170000
DTEND;TZID=America/Los_Angeles:20240201T190000
DTSTAMP:20260425T085016
CREATED:20231215T221650Z
LAST-MODIFIED:20231215T221650Z
UID:10395-1706806800-1706814000@renoarts.news
SUMMARY:"Beyond Letters" UNR Graphic Design Type Specimens
DESCRIPTION:Exhibition: December 18\, 2023 – February 9\, 2024 Reception: Thursday\, February 1\, 2024\, 5:00 – 7:00 p.m. \nAbout the Exhibition:\nFeaturing the work of Fall 2023 UNR Graphic Design students taught by Associate Professor Monica Maccuax. On display is a selection of Type Specimens\, which showcase a specific typeface’s uppercase\, lowercase\, numerals\, and punctuation. For this design project\, only black and white type was allowed!\nThe graphic design program at UNR emphasizes hands-on design approaches\, while critical analysis\, theory\, research and application will be explored. Students will become well-versed in graphic design competencies that directly relate to marketplace requirements for hiring. \nAbout the McKinley Gallery:\nGallery East and West\, located in McKinley Arts & Culture Center are two of three galleries operated by the City of Reno. To learn more please visit:\nhttps://www.reno.gov/community/arts-culture/city-art-galleries or contact City of Reno Public Art at 775.334.6264
URL:https://renoarts.news/event/beyond-letters-unr-graphic-design-type-specimens
LOCATION:McKinley Arts and Culture Center\, 925 Riverside Drive\, Reno\, NV\, 89503\, United States
CATEGORIES:Art Reception
END:VEVENT
BEGIN:VEVENT
DTSTART;TZID=America/Los_Angeles:20240202T153000
DTEND;TZID=America/Los_Angeles:20240202T153000
DTSTAMP:20260425T085016
CREATED:20240201T213152Z
LAST-MODIFIED:20240201T213152Z
UID:10626-1706887800-1706887800@renoarts.news
SUMMARY:Interactive Performance & Discussion with 6-WIRE
DESCRIPTION:Join 6-WIRE for a free\, family-friend\, interactive performance and Q&A. Learn how this ensemble brings Eastern and Western cultures together in creative concert productions that celebrate diversity while transforming the way classical music is experienced. Inspired by the historical connection between the erhu (the two-string Chinese violin) and the four-stringed Wester violin – both essential leading instruments from which the group takes its name — 6-WIRE was founded by violinist Xiang Gao and erhu master Cathy Yang. The two compose and perform contemporary\, classical\, chamber\, world and jazz music with remarkable pianist and composer\, Matthew Brower.
URL:https://renoarts.news/event/interactive-performance-discussion-with-6-wire
LOCATION:Laughing Planet Café\, 941 N Virgina St\, Reno\, NV\, 89503\, United States
CATEGORIES:Musical Performance
ORGANIZER;CN="School of Arts":MAILTO:mailto:arts@unr.edu
END:VEVENT
BEGIN:VEVENT
DTSTART;TZID=America/Los_Angeles:20240208T170000
DTEND;TZID=America/Los_Angeles:20240208T190000
DTSTAMP:20260425T085016
CREATED:20240109T222640Z
LAST-MODIFIED:20240109T222640Z
UID:10444-1707411600-1707418800@renoarts.news
SUMMARY:NTI Traveling Exhibition "Find Your Folklife"
DESCRIPTION:  \nThe Metro Gallery at Reno City Hall is hosting \, Find Your Folklife\, an innovative photo exhibit exploring cultural identity. Curated by the Nevada Arts Council Folklife Program to illustrate the vitality of folklife\, folk arts\, and folk communities that are resident in Nevada. The show will run from January 22\, 2024 to March 15\, 2024\, and the reception will be Thursday February 8\, from 5-7pm.\nThe exhibit features 22 photographs of Nevadans dressed to represent different cultural identities\, each paired with a photograph of the same person in “everyday” dress as they might appear at home\, work\, or enjoying recreational activities. These photo pairs have been combined on “lenticular two-flip” panels so that as the viewer approaches\, they see just one of the photos. As they begin to pass by the panel\, it “flips” to the other image as though by magic. The effect is created by interleaving the images on narrow strips that are refracted through an overlying lens to create the startling “two-flip” effect. Each image pair is accompanied by a statement in the model’s own words that speaks to some aspect of cultural community or identity.\n“This exhibit is a fun way to think about who we are as Nevadans in the 21st century\,” exhibit curator Rebecca Snetselaar\, who also photographed the models for the exhibit\, said. “Cultural identity is complicated. Most of us identify with more than one cultural community and we may express different aspects of that depending on where we are or who we are with at any given time.” Folklife\, folk arts\, and folklore all spring from cultural identity\, which comes from belonging to a social group. Family heritage — national or ethnic — often informs a person’s sense of self. Cultural identity also may derive from language\, gender\, religion\, age\, occupation\, and sense of place. Culture is something we share with others in a social group. It’s our folklife: our common values and beliefs\, the creative ways we express identity in a group\, the knowledge we share\, the objects that hold significance and meaning\, the activities we engage in as a community.\nThe Metro Gallery at Reno City Hall is one of three galleries operated by the City of Reno and open to the public\, free of charge\, Monday-Friday\, 9:00 a.m. – 4:00 p.m. The Metro Gallery is accessible through City Hall’s main entrance on the 2nd floor of the City Hall parking garage located on the NW corner of First St. & Center St. To learn more about the exhibition\, visit art & culture at reno.gov. \nThe Nevada Arts Council is part of the Nevada Division of Tourism and Cultural Affairs. Its mission is to enrich the cultural life of the state through leadership that preserves\, supports\, strengthens and makes excellence in the arts accessible to all Nevadans.
URL:https://renoarts.news/event/nti-traveling-exhibition-find-your-folklife
LOCATION:Metro Gallery at City Hall
CATEGORIES:Art Show
END:VEVENT
BEGIN:VEVENT
DTSTART;TZID=America/Los_Angeles:20240214T000000
DTEND;TZID=America/Los_Angeles:20240214T235959
DTSTAMP:20260425T085016
CREATED:20240122T221621Z
LAST-MODIFIED:20240122T221621Z
UID:10522-1707868800-1707955199@renoarts.news
SUMMARY:Love Letters: A Faculty Farewell Recital & Celebration of Valentine’s Day
DESCRIPTION:Join Professor Stephanie Sant’Ambrogio for her final faculty recital with Pianist Jeffrey Skyes in a program celebrating Love for Valentine’s Day with works by Fritz Kreisler\, Clara Schumann\, Edward Elgar\, William Grant Still\, Johannes Brahms & more\, plus a world premier performance of “Litanies…” for solo violin by NV based composer Monica Houghton!\nParking Information: Brian Whalen Parking Complex
URL:https://renoarts.news/event/love-letters-a-faculty-farewell-recital-celebration-of-valentines-day
LOCATION:Hall Recital Hall\, University Foundation Arts Building\, 1338 N Virginia St\, Reno\, NV\, 89557\, United States
CATEGORIES:Musical Performance
ORGANIZER;CN="School of Arts":MAILTO:mailto:arts@unr.edu
END:VEVENT
BEGIN:VEVENT
DTSTART;TZID=America/Los_Angeles:20240214T193000
DTEND;TZID=America/Los_Angeles:20240214T193000
DTSTAMP:20260425T085016
CREATED:20240210T001202Z
LAST-MODIFIED:20240210T001202Z
UID:10705-1707939000-1707939000@renoarts.news
SUMMARY:(FREE EVENT) Nevada Concert Winds
DESCRIPTION:The Nevada Concert Winds perform in their season kick-off performance. Join us for comtem-porary and traditional works for wind ensemble and brass!\nParking Information: Brian Whalen Parking Complex
URL:https://renoarts.news/event/free-event-nevada-concert-winds
LOCATION:Nightingale Concert Hall\, Church Fine Arts Building\, UNR\, 1335 N Virginia St\, Reno\, NV\, 89512\, United States
CATEGORIES:Musical Performance
ORGANIZER;CN="School of Arts":MAILTO:mailto:arts@unr.edu
END:VEVENT
BEGIN:VEVENT
DTSTART;TZID=America/Los_Angeles:20240216T170000
DTEND;TZID=America/Los_Angeles:20240216T170000
DTSTAMP:20260425T085016
CREATED:20240124T015512Z
LAST-MODIFIED:20240124T015512Z
UID:10587-1708102800-1708102800@renoarts.news
SUMMARY:Lacy J Dalton and David John - A Valentines Evening to Remember
DESCRIPTION:Get ready for an unforgettable Valentine’s event filled with dining\, laughter\, music and memories that will last a lifetime! \nJoin us for an exciting evening at Piper’s Opera House. The perfect way to celebrate with your special Valentine. Immerse yourself in the enchanting atmosphere of the historic opera house while enjoying a fine dinner and with delightful music by two Country Legends. David John will be performing his most requested songs accompanied by Doc Quam on the fiddle. Lacy J will be performing her favorite hits with Dale Poune accompanying her. \nWhether you are looking to create new memories or cherish old ones\, this event promises to be an unforgettable experience. Do not miss this opportunity to make this Valentine’s truly special!! The doors open at 5:00pm\, where the 601 no-host bar will be prepared to start your evening. Dinner catered by The Cider Factory will be served starting at 6:00pm and the entertainment will start at 7:30pm
URL:https://renoarts.news/event/lacy-j-dalton-and-david-john-a-valentines-evening-to-remember
LOCATION:Piper’s Opera House\, 12 B St\, Virginia City\, NV\, 89440\, United States
CATEGORIES:Musical Performance
END:VEVENT
BEGIN:VEVENT
DTSTART;TZID=America/Los_Angeles:20240217T190000
DTEND;TZID=America/Los_Angeles:20240217T190000
DTSTAMP:20260425T085016
CREATED:20240111T223014Z
LAST-MODIFIED:20240111T223014Z
UID:10448-1708196400-1708196400@renoarts.news
SUMMARY:"Love Notes" Short Film Competition Screening & Awards Ceremony
DESCRIPTION:Love is in the Air! Presenting the Love Notes Short Film Competition by Carson City Shorts! Can you craft a captivating romance film in just two weeks? This year\, we’re breaking the rules—romance films of any genre are welcome! Whether it’s a sci-fi love story from the cosmos or a tale of two zombies sharing a tub of brains\, let your imagination run wild! We provide three prompts: a line of dialogue\, a sound effect\, and a prop. Your film should be between 5 and 9 minutes. The excitement kicks off on January 24th with the prompt reveal. Ready to create cinematic magic? Register your team now and get ready for a love-filled filmmaking adventure! \nThe romance hits the big screen at the Brewery Arts Center in Carson City on Saturday\, February 17th. Come see all-new love stories told by local filmmakers and celebrate the art of Nevada storytelling.
URL:https://renoarts.news/event/love-notes-short-film-competition-screening-awards-ceremony
LOCATION:Brewery Arts Center\, 449 W King St\, Carson City\, NV\, 89703\, United States
CATEGORIES:Other
END:VEVENT
BEGIN:VEVENT
DTSTART;TZID=America/Los_Angeles:20240221T000000
DTEND;TZID=America/Los_Angeles:20240221T235959
DTSTAMP:20260425T085016
CREATED:20240210T000534Z
LAST-MODIFIED:20240210T000534Z
UID:10703-1708473600-1708559999@renoarts.news
SUMMARY:WCSD Honor Jazz and Jazz Lab 1
DESCRIPTION:The Washoe County School District Honor Jazz ensemble will perform works together with the UNR Jazz Lab 1 ensemble.
URL:https://renoarts.news/event/wcsd-honor-jazz-and-jazz-lab-1
LOCATION:Nightingale Concert Hall\, Church Fine Arts Building\, UNR\, 1335 N Virginia St\, Reno\, NV\, 89512\, United States
CATEGORIES:Musical Performance
ORGANIZER;CN="School of Arts":MAILTO:mailto:arts@unr.edu
END:VEVENT
BEGIN:VEVENT
DTSTART;TZID=America/Los_Angeles:20240222T193000
DTEND;TZID=America/Los_Angeles:20240222T193000
DTSTAMP:20260425T085016
CREATED:20230902T220419Z
LAST-MODIFIED:20230902T220419Z
UID:9205-1708630200-1708630200@renoarts.news
SUMMARY:Performing Arts Series presents 6- WIRE
DESCRIPTION:The Performing Arts Series presents 6-wire Trio. Inspired by the historical connection be-tween the Erhu\, the Chinese 2-stringed violin\, and the 4-stringed Western violin – both essential leading instruments\, 6-WIRE was founded in 2010 by two virtuoso musicians: violinist Xiang Gao and erhu master Cathy Yang\, who compose and perform contempo-rary\, classical\, chamber\, world music\, and jazz with the remarkable pianist and arranger\, Matthew Brower. 6-WIRE celebrates diversity in its performances\, weaving stories into its concerts\, transforming how live instrumental music is experienced. Their electrifying performances redefine traditional chamber music with forward-looking compositions and commissions along with cutting-edge audio and video technology\, fulfilling its mission to promote cultural exchange while attracting new chamber music audiences with new reper-toire and new sounds.
URL:https://renoarts.news/event/performing-arts-series-presents-6-wire
LOCATION:Nightingale Concert Hall\, Church Fine Arts Building\, UNR\, 1335 N Virginia St\, Reno\, NV\, 89512\, United States
CATEGORIES:Musical Performance
ORGANIZER;CN="School of Arts":MAILTO:mailto:arts@unr.edu
END:VEVENT
BEGIN:VEVENT
DTSTART;TZID=America/Los_Angeles:20240224T193000
DTEND;TZID=America/Los_Angeles:20240224T193000
DTSTAMP:20260425T085016
CREATED:20240210T003233Z
LAST-MODIFIED:20240210T003233Z
UID:10711-1708803000-1708803000@renoarts.news
SUMMARY:(FREE EVENT) School of Music Faculty Recital
DESCRIPTION:Join the School of Music in celebration of our spectacular faculty. The evening will feature the grand Poulenc Sextet for Piano\, Flute\, Oboe\, Clarinet and Bassoon\, selections of vocal music\, and a world premiere of “A Dance is a Kind of Wish” – a Concertino for Cello and Chamber En-semble in honor of the University’s 150th anniversary – by one of the foremost up-and-coming talents of our generation\, the composer Paul Novak.\nV1335 N Virginia St Reno\, NV 89512\nParking Information: Brian Whalen Parking Complex
URL:https://renoarts.news/event/free-event-school-of-music-faculty-recital
LOCATION:Nightingale Concert Hall\, Church Fine Arts Building\, UNR\, 1335 N Virginia St\, Reno\, NV\, 89512\, United States
CATEGORIES:Musical Performance
ORGANIZER;CN="School of Arts":MAILTO:mailto:arts@unr.edu
END:VEVENT
END:VCALENDAR