BEGIN:VCALENDAR
VERSION:2.0
PRODID:-//Reno Arts News - ECPv6.15.20//NONSGML v1.0//EN
CALSCALE:GREGORIAN
METHOD:PUBLISH
X-WR-CALNAME:Reno Arts News
X-ORIGINAL-URL:https://renoarts.news
X-WR-CALDESC:Events for Reno Arts News
REFRESH-INTERVAL;VALUE=DURATION:PT1H
X-Robots-Tag:noindex
X-PUBLISHED-TTL:PT1H
BEGIN:VTIMEZONE
TZID:America/Los_Angeles
BEGIN:DAYLIGHT
TZOFFSETFROM:-0800
TZOFFSETTO:-0700
TZNAME:PDT
DTSTART:20250309T100000
END:DAYLIGHT
BEGIN:STANDARD
TZOFFSETFROM:-0700
TZOFFSETTO:-0800
TZNAME:PST
DTSTART:20251102T090000
END:STANDARD
BEGIN:DAYLIGHT
TZOFFSETFROM:-0800
TZOFFSETTO:-0700
TZNAME:PDT
DTSTART:20260308T100000
END:DAYLIGHT
BEGIN:STANDARD
TZOFFSETFROM:-0700
TZOFFSETTO:-0800
TZNAME:PST
DTSTART:20261101T090000
END:STANDARD
BEGIN:DAYLIGHT
TZOFFSETFROM:-0800
TZOFFSETTO:-0700
TZNAME:PDT
DTSTART:20270314T100000
END:DAYLIGHT
BEGIN:STANDARD
TZOFFSETFROM:-0700
TZOFFSETTO:-0800
TZNAME:PST
DTSTART:20271107T090000
END:STANDARD
END:VTIMEZONE
BEGIN:VEVENT
DTSTART;TZID=America/Los_Angeles:20260308T120000
DTEND;TZID=America/Los_Angeles:20260308T160000
DTSTAMP:20260419T155440
CREATED:20260213T010214Z
LAST-MODIFIED:20260213T010214Z
UID:13738-1772971200-1772985600@renoarts.news
SUMMARY:20th Annual Photo Fandango
DESCRIPTION:Join us at the Artist Co-op for:\n\n20th Annual Photo Fandango-“Shoot Your Best Shot”\n\nMarch 1-31\, 2026\n\nGuest Artist: Alice Kreider\n\nReception: March 8\, from 12-4pm627 Mill St.\, Reno\, NV 89502\n\nWith over two dozen local photographers showcasing their best work\, much of which has never been exhibited in any gallery until now. In March\, you will see Landscapes\, Abstracts\, Portraits\, Wildlife\, and much more at the Artists Co-op.
URL:https://renoarts.news/event/20th-annual-photo-fandango
LOCATION:Artists Co-op Gallery of Reno\, 627 Mill St\, Reno\, NV\, 89502\, United States
CATEGORIES:Art Reception,Art Show
END:VEVENT
END:VCALENDAR