BEGIN:VCALENDAR
VERSION:2.0
PRODID:-//Reno Arts News - ECPv6.15.20//NONSGML v1.0//EN
CALSCALE:GREGORIAN
METHOD:PUBLISH
X-ORIGINAL-URL:https://renoarts.news
X-WR-CALDESC:Events for Reno Arts News
REFRESH-INTERVAL;VALUE=DURATION:PT1H
X-Robots-Tag:noindex
X-PUBLISHED-TTL:PT1H
BEGIN:VTIMEZONE
TZID:America/Los_Angeles
BEGIN:DAYLIGHT
TZOFFSETFROM:-0800
TZOFFSETTO:-0700
TZNAME:PDT
DTSTART:20250309T100000
END:DAYLIGHT
BEGIN:STANDARD
TZOFFSETFROM:-0700
TZOFFSETTO:-0800
TZNAME:PST
DTSTART:20251102T090000
END:STANDARD
BEGIN:DAYLIGHT
TZOFFSETFROM:-0800
TZOFFSETTO:-0700
TZNAME:PDT
DTSTART:20260308T100000
END:DAYLIGHT
BEGIN:STANDARD
TZOFFSETFROM:-0700
TZOFFSETTO:-0800
TZNAME:PST
DTSTART:20261101T090000
END:STANDARD
BEGIN:DAYLIGHT
TZOFFSETFROM:-0800
TZOFFSETTO:-0700
TZNAME:PDT
DTSTART:20270314T100000
END:DAYLIGHT
BEGIN:STANDARD
TZOFFSETFROM:-0700
TZOFFSETTO:-0800
TZNAME:PST
DTSTART:20271107T090000
END:STANDARD
END:VTIMEZONE
BEGIN:VEVENT
DTSTART;TZID=America/Los_Angeles:20260226T170000
DTEND;TZID=America/Los_Angeles:20260226T190000
DTSTAMP:20260421T122126
CREATED:20260127T225530Z
LAST-MODIFIED:20260127T225530Z
UID:13632-1772125200-1772132400@renoarts.news
SUMMARY:“Postcards From the Edge (of Nevada)” Our Center Reno
DESCRIPTION:Reno\, NV- A community art gallery featuring queer artists and their words of hope.\nPostcards From the Edge (of Nevada) is a community-driven exhibition that invites queer artists and allies to\nreflect on place\, identity\, and survival at the margins. Using the humble postcard as both artwork and message\,\nthis exhibition transforms personal expression into a shared act of connection—one that crosses distance\,\nisolation\, and silence.\nAt the edge of geography\, culture\, and visibility\, queer communities in Nevada have long cultivated resilience\nthrough creativity\, humor\, tenderness\, and mutual support. This exhibition honors those lived experiences by\ncreating space for artists of all backgrounds to speak directly to the queer community—past\, present\, and\nfuture—through words and images meant to be held\, sent\, and remembered.\nPostcards From the Edge (of Nevada) is not just a collection of artworks\, but a living archive of care. Each\npostcard becomes a gesture of solidarity\, a reminder that even at the edge\, we are not alone.\n“At Our Center\, we are dedicated to creating and supporting inclusive programs for the entire LGBTQ+\ncommunity. This includes offering support groups for youth and adult trans members\, community groups for\nseniors\, and prevention-focused initiatives.”\nTo learn more about what Our Center offers\, please visit: https://ourcenterreno.org/\nGallery West\, located in McKinley Arts & Culture Center is one of three galleries operated by the City of Reno.\nTo learn more please visit: https://www.reno.gov/community/arts-culture/city-art-galleries
URL:https://renoarts.news/event/postcards-from-the-edge-of-nevada-our-center-reno
LOCATION:McKinley Arts and Culture Center\, 925 Riverside Drive\, Reno\, NV\, 89503\, United States
CATEGORIES:Art Reception,Art Show
END:VEVENT
BEGIN:VEVENT
DTSTART;TZID=America/Los_Angeles:20260226T170000
DTEND;TZID=America/Los_Angeles:20260226T190000
DTSTAMP:20260421T122126
CREATED:20260127T230136Z
LAST-MODIFIED:20260127T230136Z
UID:13636-1772125200-1772132400@renoarts.news
SUMMARY:“Reno Mug Shots: vessels\, possibly made for drinking\, inspired by Reno” The Wedge Ceramic Studios
DESCRIPTION:The artists at the Wedge Ceramics Studio are thrilled to present Reno Mug Shots: vessels\, possibly made for\ndrinking\, inspired by Reno. Making mugs is something all ceramic artists take comfort\, joy\, and pride in\, each\nfor their own reasons. This is not unlike living in Reno and Northern Nevada\, where we delight in Reno each in\nour own way\, making it our own\, stamping it with our signature. But our individual marks\, left on mugs\, left on\nour town\, can really only be understood when seen as a whole\, as if we’re all working towards the same\nunknown goal.\nOur mugs represent what Reno means to us\, the storied past\, shared present\, and an always uncertain but\ncollaborative and communal future. Fill your cup up with whatever you want\, for what you get out of Reno is a\nmagnification and reflection of what you put in.\n“The Wedge Ceramics Studio was started in September 2011 by Sutter and Samantha Stremmel. Moving back\nto Reno after graduating from Montana State University\, they bemoaned the fact there was no place to play with\nclay unless you were currently institutionalized in school or classes.”\n“Over a decade later\, we have become an institution ourselves. We are an ever growing\, always dynamic\,\nentropic studio in a 5000 sq. ft. industrial warehouse turned ceramics studio. Sam and Sutter now work together\nto operate their respective\, neighboring businesses\, the Wedge and Sierra Water\, an indoor plant shop next door\nin the warehouse at 2055 Dickerson Rd. We are excited to be a part of Dickerson Road’s family of artists.”\nTo learn more about what The Wedge offers\, please visit: https://www.thewedgeceramics.com/\nGallery East\, located in McKinley Arts & Culture Center is one of three galleries operated by the City of Reno.\nTo learn more please visit: https://www.reno.gov/community/arts-culture/city-art-galleries
URL:https://renoarts.news/event/reno-mug-shots-vessels-possibly-made-for-drinking-inspired-by-reno-the-wedge-ceramic-studios
LOCATION:McKinley Arts and Culture Center\, 925 Riverside Drive\, Reno\, NV\, 89503\, United States
CATEGORIES:Art Reception,Art Show
END:VEVENT
END:VCALENDAR