BEGIN:VCALENDAR
VERSION:2.0
PRODID:-//Reno Arts News - ECPv6.15.20//NONSGML v1.0//EN
CALSCALE:GREGORIAN
METHOD:PUBLISH
X-WR-CALNAME:Reno Arts News
X-ORIGINAL-URL:https://renoarts.news
X-WR-CALDESC:Events for Reno Arts News
REFRESH-INTERVAL;VALUE=DURATION:PT1H
X-Robots-Tag:noindex
X-PUBLISHED-TTL:PT1H
BEGIN:VTIMEZONE
TZID:America/Los_Angeles
BEGIN:DAYLIGHT
TZOFFSETFROM:-0800
TZOFFSETTO:-0700
TZNAME:PDT
DTSTART:20240310T100000
END:DAYLIGHT
BEGIN:STANDARD
TZOFFSETFROM:-0700
TZOFFSETTO:-0800
TZNAME:PST
DTSTART:20241103T090000
END:STANDARD
BEGIN:DAYLIGHT
TZOFFSETFROM:-0800
TZOFFSETTO:-0700
TZNAME:PDT
DTSTART:20250309T100000
END:DAYLIGHT
BEGIN:STANDARD
TZOFFSETFROM:-0700
TZOFFSETTO:-0800
TZNAME:PST
DTSTART:20251102T090000
END:STANDARD
BEGIN:DAYLIGHT
TZOFFSETFROM:-0800
TZOFFSETTO:-0700
TZNAME:PDT
DTSTART:20260308T100000
END:DAYLIGHT
BEGIN:STANDARD
TZOFFSETFROM:-0700
TZOFFSETTO:-0800
TZNAME:PST
DTSTART:20261101T090000
END:STANDARD
END:VTIMEZONE
BEGIN:VEVENT
DTSTART;TZID=America/Los_Angeles:20251108T100000
DTEND;TZID=America/Los_Angeles:20251108T140000
DTSTAMP:20260424T013646
CREATED:20251022T225030Z
LAST-MODIFIED:20251022T225030Z
UID:13339-1762596000-1762610400@renoarts.news
SUMMARY:Holiday Family Arts Festival
DESCRIPTION:Mark your calendars\, Reno families! The Holiday Family Arts Festival is back at the Lake Mansion on Saturday\, November 8 from 10am to 2pm — and yes\, it’s totally FREE! Bring the kids\, your friends\, your neighbor\, everyone — and come hang out for a day of artsy fun. \nEvent Highlights: \n– Enjoy 8 winter and holiday-themed art stations with hands-on crafts for all age groups\n– Free book for every child\, courtesy of Spread the Word-Nevada\n– Caroling with the High Desert Harmonies\n– Meet local historian and Lake Mansion expert – Patty Cafferata\n– Santa will be in attendance from 11am-1pm\n– Face painting\n– Explore the open doors of the Lake Mansion\, and more! \n** We’ll also host a Toy Drive to benefit the Northern Nevada Children’s Cancer Foundation so please bring a toy to share if you can. \nNo RSVP needed – just bring your friends and family\, and we’ll see you there! \nThanks to our sponsors – the City of Reno Government Arts & Culture Commission\, the Nevada Arts Council\, National Endowment for the Arts\, E.L. Cord Foundation\, Marshall R. Matley Foundation\, The Nell J. Redfield Foundation\, Robert Z. Hawkins Foundation\, and NV Energy Foundation for making the Holiday Family Arts Festival happen.
URL:https://renoarts.news/event/holiday-family-arts-festival
LOCATION:Lake Mansion Arts and Cultural Center\, 250 Court St\, Reno\, NV\, 89501\, United States
CATEGORIES:Other
END:VEVENT
END:VCALENDAR