BEGIN:VCALENDAR
VERSION:2.0
PRODID:-//Reno Arts News - ECPv6.15.20//NONSGML v1.0//EN
CALSCALE:GREGORIAN
METHOD:PUBLISH
X-ORIGINAL-URL:https://renoarts.news
X-WR-CALDESC:Events for Reno Arts News
REFRESH-INTERVAL;VALUE=DURATION:PT1H
X-Robots-Tag:noindex
X-PUBLISHED-TTL:PT1H
BEGIN:VTIMEZONE
TZID:America/Los_Angeles
BEGIN:DAYLIGHT
TZOFFSETFROM:-0800
TZOFFSETTO:-0700
TZNAME:PDT
DTSTART:20240310T100000
END:DAYLIGHT
BEGIN:STANDARD
TZOFFSETFROM:-0700
TZOFFSETTO:-0800
TZNAME:PST
DTSTART:20241103T090000
END:STANDARD
BEGIN:DAYLIGHT
TZOFFSETFROM:-0800
TZOFFSETTO:-0700
TZNAME:PDT
DTSTART:20250309T100000
END:DAYLIGHT
BEGIN:STANDARD
TZOFFSETFROM:-0700
TZOFFSETTO:-0800
TZNAME:PST
DTSTART:20251102T090000
END:STANDARD
BEGIN:DAYLIGHT
TZOFFSETFROM:-0800
TZOFFSETTO:-0700
TZNAME:PDT
DTSTART:20260308T100000
END:DAYLIGHT
BEGIN:STANDARD
TZOFFSETFROM:-0700
TZOFFSETTO:-0800
TZNAME:PST
DTSTART:20261101T090000
END:STANDARD
END:VTIMEZONE
BEGIN:VEVENT
DTSTART;TZID=America/Los_Angeles:20251101T190000
DTEND;TZID=America/Los_Angeles:20251101T210000
DTSTAMP:20260425T083300
CREATED:20251007T225904Z
LAST-MODIFIED:20251007T225904Z
UID:13276-1762023600-1762030800@renoarts.news
SUMMARY:Trial by Jury
DESCRIPTION:Firebird Light Opera requests the honor of your presence at Gilbert & Sullivan’s sparkling one-act operetta\, Trial by Jury. \nWitness the hilarity as love and the law collide in the most musical court case of the century. Laughter\, wit\, and comic mischief are guaranteed as the verdict is delivered in true G&S fashion but with a wild west twist! \nFollowing the operetta\, you are cordially invited to join us for more music and merriment at a jubilant wedding reception for the happy new opera couple! A lively wedding celebration featuring karaoke with surprises\, games\, dancing\, and food & drink available for purchase. \nCome for the vows and verdict… stay for the songs and celebration! \nAdult tickets are $40\nStudents and children 17 and under tickets are $20 \nDuration: 2 hours
URL:https://renoarts.news/event/trial-by-jury-2
LOCATION:National Automobile Museum\, 1 Museum Drive\, Reno\, NV\, 89501\, United States
CATEGORIES:Theatre Performance
END:VEVENT
BEGIN:VEVENT
DTSTART;TZID=America/Los_Angeles:20251102T140000
DTEND;TZID=America/Los_Angeles:20251102T160000
DTSTAMP:20260425T083300
CREATED:20251007T230507Z
LAST-MODIFIED:20251007T230507Z
UID:13278-1762092000-1762099200@renoarts.news
SUMMARY:Trial by Jury
DESCRIPTION:Firebird Light Opera requests the honor of your presence at Gilbert & Sullivan’s sparkling one-act operetta\, Trial by Jury. \nWitness the hilarity as love and the law collide in the most musical court case of the century. Laughter\, wit\, and comic mischief are guaranteed as the verdict is delivered in true G&S fashion but with a wild west twist! \nFollowing the operetta\, you are cordially invited to join us for more music and merriment at a jubilant wedding reception for the happy new opera couple! A lively wedding celebration featuring karaoke with surprises\, games\, dancing\, and food & drink available for purchase. \nCome for the vows and verdict… stay for the songs and celebration! \nAdult tickets are $40\nStudents and children 17 and under tickets are $20 \nDuration: 2 hours
URL:https://renoarts.news/event/trial-by-jury-3
LOCATION:National Automobile Museum\, 1 Museum Drive\, Reno\, NV\, 89501\, United States
CATEGORIES:Theatre Performance
END:VEVENT
BEGIN:VEVENT
DTSTART;TZID=America/Los_Angeles:20251115T193000
DTEND;TZID=America/Los_Angeles:20251115T193000
DTSTAMP:20260425T083300
CREATED:20251110T001736Z
LAST-MODIFIED:20251110T001736Z
UID:13406-1763235000-1763235000@renoarts.news
SUMMARY:Stravinsky: The American Dream
DESCRIPTION:Join the Reno Chamber Orchestra for Stravinsky: The American Dream. Highlighting works by composers who immigrated to Americaber Orchestra
URL:https://renoarts.news/event/stravinsky-the-american-dream
LOCATION:Nightingale Concert Hall\, Church Fine Arts Building\, UNR\, 1335 N Virginia St\, Reno\, NV\, 89512\, United States
CATEGORIES:Musical Performance
END:VEVENT
BEGIN:VEVENT
DTSTART;TZID=America/Los_Angeles:20251116T140000
DTEND;TZID=America/Los_Angeles:20251116T140000
DTSTAMP:20260425T083300
CREATED:20251110T002137Z
LAST-MODIFIED:20251110T002137Z
UID:13409-1763301600-1763301600@renoarts.news
SUMMARY:Stravinsky: The American Dream
DESCRIPTION:Join the Reno Chamber Orchestra for Stravinsky: The American Dream. Highlighting works by composers who immigrated to America
URL:https://renoarts.news/event/stravinsky-the-american-dream-2
LOCATION:Nightingale Concert Hall\, Church Fine Arts Building\, UNR\, 1335 N Virginia St\, Reno\, NV\, 89512\, United States
CATEGORIES:Musical Performance
END:VEVENT
BEGIN:VEVENT
DTSTART;TZID=America/Los_Angeles:20251120T193000
DTEND;TZID=America/Los_Angeles:20251120T193000
DTSTAMP:20260425T083300
CREATED:20250909T212108Z
LAST-MODIFIED:20250909T212108Z
UID:13183-1763667000-1763667000@renoarts.news
SUMMARY:Fall Dance Festival
DESCRIPTION:The Fall Dance Festival is an annual dance concert featuring the innovative choreography of student and alumni artists. \nReserved Seating: Adults: $25; UNR Faculty & Staff\, Seniors (65+); Non-UNR Students: $20; UNR Students: $5 (Additional transaction fees may apply).\nTickets and information at unr.edu/theatre-dance
URL:https://renoarts.news/event/fall-dance-festival
LOCATION:Redfield Proscenium Theatre\, Church Fine Arts\, 1335 N Virginia St\, Reno\, NV\, 89512\, United States
CATEGORIES:Theatre Performance
END:VEVENT
BEGIN:VEVENT
DTSTART;TZID=America/Los_Angeles:20251121T190000
DTEND;TZID=America/Los_Angeles:20251121T190000
DTSTAMP:20260425T083300
CREATED:20251110T000705Z
LAST-MODIFIED:20251110T000705Z
UID:13402-1763751600-1763751600@renoarts.news
SUMMARY:Higher Elevation Music's Camerata at St Luke's Lutheran Church\, Reno
DESCRIPTION:Join Higher Elevation Music’s Camerata for the opening night of its Fall 2025 Concert Series\, hosted in the warm acoustics of St. Luke’s Lutheran Church in Reno. \nThis intimate chamber performance invites audiences to experience world-class musicianship in a setting that feels both close and inspiring. The program features timeless works that highlight the spirit of collaboration and beauty at the heart of classical music. \nYour ticket purchase directly supports Sierra Kids Foundation\, which helps children with developmental needs\, and Higher Elevation Music’s mission to make live classical performance accessible throughout the Reno–Tahoe community. \nTickets:\nPatron – $80 (front seating & early access)\nGeneral Admission – $40\nExplorer – $10 (for those new to classical music)\nPay What You Can – Flexible option for accessibility \nWhen: Friday\, November 21 · 7:00 PM\nWhere: St. Luke’s Lutheran Church · Reno\, NV \nCome experience the start of a musical journey that uplifts\, connects\, and inspires.
URL:https://renoarts.news/event/higher-elevation-musics-camerata-at-st-lukes-lutheran-church-reno
LOCATION:St. Luke’s Lutheran Church\, 3835 Lakeside Dr\, Reno\, NV\, 89509\, United States
CATEGORIES:Musical Performance
END:VEVENT
BEGIN:VEVENT
DTSTART;TZID=America/Los_Angeles:20251121T193000
DTEND;TZID=America/Los_Angeles:20251121T193000
DTSTAMP:20260425T083300
CREATED:20250910T221804Z
LAST-MODIFIED:20250910T221804Z
UID:13185-1763753400-1763753400@renoarts.news
SUMMARY:Fall Dance Festival 2025
DESCRIPTION:The Fall Dance Festival is an annual dance concert featuring the innovative choreography of student and alumni artists. \nReserved Seating: Adults: $25; UNR Faculty & Staff\, Seniors (65+); Non-UNR Students: $20; UNR Students: $5 (Additional transaction fees may apply).\nTickets and information at unr.edu/theatre-dance
URL:https://renoarts.news/event/fall-dance-festival-2025
LOCATION:Redfield Proscenium Theatre\, Church Fine Arts\, 1335 N Virginia St\, Reno\, NV\, 89512\, United States
CATEGORIES:Theatre Performance
END:VEVENT
BEGIN:VEVENT
DTSTART;TZID=America/Los_Angeles:20251122T133000
DTEND;TZID=America/Los_Angeles:20251122T133000
DTSTAMP:20260425T083300
CREATED:20250910T222955Z
LAST-MODIFIED:20250910T222955Z
UID:13189-1763818200-1763818200@renoarts.news
SUMMARY:Fall Dance Festival 2025
DESCRIPTION:The Fall Dance Festival is an annual dance concert featuring the innovative choreography of student and alumni artists. \nReserved Seating: Adults: $25; UNR Faculty & Staff\, Seniors (65+); Non-UNR Students: $20; UNR Students: $5 (Additional transaction fees may apply).\nTickets and information at unr.edu/theatre-dance
URL:https://renoarts.news/event/fall-dance-festival-2025-3
LOCATION:Redfield Proscenium Theatre\, Church Fine Arts\, 1335 N Virginia St\, Reno\, NV\, 89512\, United States
CATEGORIES:Theatre Performance
END:VEVENT
BEGIN:VEVENT
DTSTART;TZID=America/Los_Angeles:20251122T193000
DTEND;TZID=America/Los_Angeles:20251122T193000
DTSTAMP:20260425T083300
CREATED:20250910T222419Z
LAST-MODIFIED:20250910T222419Z
UID:13187-1763839800-1763839800@renoarts.news
SUMMARY:Fall Dance Festival 2025
DESCRIPTION:The Fall Dance Festival is an annual dance concert featuring the innovative choreography of student and alumni artists. \nReserved Seating: Adults: $25; UNR Faculty & Staff\, Seniors (65+); Non-UNR Students: $20; UNR Students: $5 (Additional transaction fees may apply).\nTickets and information at unr.edu/theatre-dance
URL:https://renoarts.news/event/fall-dance-festival-2025-2
LOCATION:Redfield Proscenium Theatre\, Church Fine Arts\, 1335 N Virginia St\, Reno\, NV\, 89512\, United States
CATEGORIES:Theatre Performance
END:VEVENT
END:VCALENDAR