BEGIN:VCALENDAR
VERSION:2.0
PRODID:-//Reno Arts News - ECPv6.15.20//NONSGML v1.0//EN
CALSCALE:GREGORIAN
METHOD:PUBLISH
X-WR-CALNAME:Reno Arts News
X-ORIGINAL-URL:https://renoarts.news
X-WR-CALDESC:Events for Reno Arts News
REFRESH-INTERVAL;VALUE=DURATION:PT1H
X-Robots-Tag:noindex
X-PUBLISHED-TTL:PT1H
BEGIN:VTIMEZONE
TZID:America/Los_Angeles
BEGIN:DAYLIGHT
TZOFFSETFROM:-0800
TZOFFSETTO:-0700
TZNAME:PDT
DTSTART:20220313T100000
END:DAYLIGHT
BEGIN:STANDARD
TZOFFSETFROM:-0700
TZOFFSETTO:-0800
TZNAME:PST
DTSTART:20221106T090000
END:STANDARD
BEGIN:DAYLIGHT
TZOFFSETFROM:-0800
TZOFFSETTO:-0700
TZNAME:PDT
DTSTART:20230312T100000
END:DAYLIGHT
BEGIN:STANDARD
TZOFFSETFROM:-0700
TZOFFSETTO:-0800
TZNAME:PST
DTSTART:20231105T090000
END:STANDARD
BEGIN:DAYLIGHT
TZOFFSETFROM:-0800
TZOFFSETTO:-0700
TZNAME:PDT
DTSTART:20240310T100000
END:DAYLIGHT
BEGIN:STANDARD
TZOFFSETFROM:-0700
TZOFFSETTO:-0800
TZNAME:PST
DTSTART:20241103T090000
END:STANDARD
END:VTIMEZONE
BEGIN:VEVENT
DTSTART;VALUE=DATE:20231211
DTEND;VALUE=DATE:20231212
DTSTAMP:20260419T131752
CREATED:20230911T210832Z
LAST-MODIFIED:20230911T210832Z
UID:9283-1702252800-1702339199@renoarts.news
SUMMARY:Brass Quintet Showcase
DESCRIPTION:An evening full of brass! Come hear the student brass quintets in their end of semester show-case.
URL:https://renoarts.news/event/brass-quintet-showcase
LOCATION:Hall Recital Hall\, University Foundation Arts Building\, 1338 N Virginia St\, Reno\, NV\, 89557\, United States
CATEGORIES:Musical Performance
ORGANIZER;CN="School of Arts":MAILTO:mailto:arts@unr.edu
END:VEVENT
END:VCALENDAR