BEGIN:VCALENDAR
VERSION:2.0
PRODID:-//Reno Arts News - ECPv6.15.20//NONSGML v1.0//EN
CALSCALE:GREGORIAN
METHOD:PUBLISH
X-ORIGINAL-URL:https://renoarts.news
X-WR-CALDESC:Events for Reno Arts News
REFRESH-INTERVAL;VALUE=DURATION:PT1H
X-Robots-Tag:noindex
X-PUBLISHED-TTL:PT1H
BEGIN:VTIMEZONE
TZID:America/Los_Angeles
BEGIN:DAYLIGHT
TZOFFSETFROM:-0800
TZOFFSETTO:-0700
TZNAME:PDT
DTSTART:20230312T100000
END:DAYLIGHT
BEGIN:STANDARD
TZOFFSETFROM:-0700
TZOFFSETTO:-0800
TZNAME:PST
DTSTART:20231105T090000
END:STANDARD
BEGIN:DAYLIGHT
TZOFFSETFROM:-0800
TZOFFSETTO:-0700
TZNAME:PDT
DTSTART:20240310T100000
END:DAYLIGHT
BEGIN:STANDARD
TZOFFSETFROM:-0700
TZOFFSETTO:-0800
TZNAME:PST
DTSTART:20241103T090000
END:STANDARD
BEGIN:DAYLIGHT
TZOFFSETFROM:-0800
TZOFFSETTO:-0700
TZNAME:PDT
DTSTART:20250309T100000
END:DAYLIGHT
BEGIN:STANDARD
TZOFFSETFROM:-0700
TZOFFSETTO:-0800
TZNAME:PST
DTSTART:20251102T090000
END:STANDARD
END:VTIMEZONE
BEGIN:VEVENT
DTSTART;TZID=America/Los_Angeles:20240511T150000
DTEND;TZID=America/Los_Angeles:20240511T150000
DTSTAMP:20260419T120309
CREATED:20240319T221250Z
LAST-MODIFIED:20240319T221250Z
UID:10839-1715439600-1715439600@renoarts.news
SUMMARY:FREE EVENT: Harp Studio Recital
DESCRIPTION:Harp students of Marina Roznitovsky Oster perform solos and ensemble pieces.\nFree parking at the Whalen Parking Garage.
URL:https://renoarts.news/event/free-event-harp-studio-recital
LOCATION:UFA 144\, University Foundation Arts Building\, 1664 North Virginia St\, Reno\, NV\, 89503\, United States
CATEGORIES:Musical Performance
ORGANIZER;CN="School of Arts":MAILTO:mailto:arts@unr.edu
END:VEVENT
END:VCALENDAR