BEGIN:VCALENDAR
VERSION:2.0
PRODID:-//Reno Arts News - ECPv6.15.20//NONSGML v1.0//EN
CALSCALE:GREGORIAN
METHOD:PUBLISH
X-ORIGINAL-URL:https://renoarts.news
X-WR-CALDESC:Events for Reno Arts News
REFRESH-INTERVAL;VALUE=DURATION:PT1H
X-Robots-Tag:noindex
X-PUBLISHED-TTL:PT1H
BEGIN:VTIMEZONE
TZID:America/Los_Angeles
BEGIN:DAYLIGHT
TZOFFSETFROM:-0800
TZOFFSETTO:-0700
TZNAME:PDT
DTSTART:20250309T100000
END:DAYLIGHT
BEGIN:STANDARD
TZOFFSETFROM:-0700
TZOFFSETTO:-0800
TZNAME:PST
DTSTART:20251102T090000
END:STANDARD
BEGIN:DAYLIGHT
TZOFFSETFROM:-0800
TZOFFSETTO:-0700
TZNAME:PDT
DTSTART:20260308T100000
END:DAYLIGHT
BEGIN:STANDARD
TZOFFSETFROM:-0700
TZOFFSETTO:-0800
TZNAME:PST
DTSTART:20261101T090000
END:STANDARD
BEGIN:DAYLIGHT
TZOFFSETFROM:-0800
TZOFFSETTO:-0700
TZNAME:PDT
DTSTART:20270314T100000
END:DAYLIGHT
BEGIN:STANDARD
TZOFFSETFROM:-0700
TZOFFSETTO:-0800
TZNAME:PST
DTSTART:20271107T090000
END:STANDARD
END:VTIMEZONE
BEGIN:VEVENT
DTSTART;TZID=America/Los_Angeles:20260516T120000
DTEND;TZID=America/Los_Angeles:20260516T120000
DTSTAMP:20260421T064805
CREATED:20250609T181843Z
LAST-MODIFIED:20250609T181843Z
UID:12817-1778932800-1778932800@renoarts.news
SUMMARY:Movies With the Maestro
DESCRIPTION:Two Showtimes:\nDoors 12:00 PM\, Concert 1:00 PM\nDoors 6:00 PM\, Concert 7:00 PM \nExperience the magic of the movies like never before with Movies with the Maestro! Led by conductor Laura Jackson\, the Reno Phil will transport you through decades of cinematic brilliance\, performing critically acclaimed film scores from Hollywood’s most iconic blockbusters. Revisit the greatest film soundtracks of all time\, from the sweeping adventure of The Magnificent Seven and the timeless romance of Titanic to the epic heroism of The Avengers and beyond. Don’t miss this unforgettable night of music that brings the silver screen to life—live in concert! \nPLEASE NOTE: No images\, film clips or other media will be shown. The Reno Phil will be in the spotlight during this all-music program. We do encourage themed attire\, however prop weapons are NOT permitted at the venue. \nTICKET INFORMATION\nReno Phil Classix Series Subscribers pre-sale begins October 16 at 10:00 AM. Tickets are on sale on Monday\, October 20 at 10:00 AM.
URL:https://renoarts.news/event/movies-with-the-maestro
LOCATION:Pioneer Center for the Performing Arts\, 100 S. Virginia St\, Reno\, NV\, 89501\, United States
CATEGORIES:Musical Performance
END:VEVENT
BEGIN:VEVENT
DTSTART;TZID=America/Los_Angeles:20260516T180000
DTEND;TZID=America/Los_Angeles:20260516T180000
DTSTAMP:20260421T064805
CREATED:20250609T182220Z
LAST-MODIFIED:20250609T182220Z
UID:12819-1778954400-1778954400@renoarts.news
SUMMARY:Movies With the Maestro
DESCRIPTION:Two Showtimes:\nDoors 12:00 PM\, Concert 1:00 PM\nDoors 6:00 PM\, Concert 7:00 PM \nExperience the magic of the movies like never before with Movies with the Maestro! Led by conductor Laura Jackson\, the Reno Phil will transport you through decades of cinematic brilliance\, performing critically acclaimed film scores from Hollywood’s most iconic blockbusters. Revisit the greatest film soundtracks of all time\, from the sweeping adventure of The Magnificent Seven and the timeless romance of Titanic to the epic heroism of The Avengers and beyond. Don’t miss this unforgettable night of music that brings the silver screen to life—live in concert! \nPLEASE NOTE: No images\, film clips or other media will be shown. The Reno Phil will be in the spotlight during this all-music program. We do encourage themed attire\, however prop weapons are NOT permitted at the venue. \nTICKET INFORMATION\nReno Phil Classix Series Subscribers pre-sale begins October 16 at 10:00 AM. Tickets are on sale on Monday\, October 20 at 10:00 AM.
URL:https://renoarts.news/event/movies-with-the-maestro-2
LOCATION:Pioneer Center for the Performing Arts\, 100 S. Virginia St\, Reno\, NV\, 89501\, United States
CATEGORIES:Musical Performance
END:VEVENT
END:VCALENDAR