BEGIN:VCALENDAR
VERSION:2.0
PRODID:-//Reno Arts News - ECPv6.15.20//NONSGML v1.0//EN
CALSCALE:GREGORIAN
METHOD:PUBLISH
X-WR-CALNAME:Reno Arts News
X-ORIGINAL-URL:https://renoarts.news
X-WR-CALDESC:Events for Reno Arts News
REFRESH-INTERVAL;VALUE=DURATION:PT1H
X-Robots-Tag:noindex
X-PUBLISHED-TTL:PT1H
BEGIN:VTIMEZONE
TZID:America/Los_Angeles
BEGIN:DAYLIGHT
TZOFFSETFROM:-0800
TZOFFSETTO:-0700
TZNAME:PDT
DTSTART:20230312T100000
END:DAYLIGHT
BEGIN:STANDARD
TZOFFSETFROM:-0700
TZOFFSETTO:-0800
TZNAME:PST
DTSTART:20231105T090000
END:STANDARD
BEGIN:DAYLIGHT
TZOFFSETFROM:-0800
TZOFFSETTO:-0700
TZNAME:PDT
DTSTART:20240310T100000
END:DAYLIGHT
BEGIN:STANDARD
TZOFFSETFROM:-0700
TZOFFSETTO:-0800
TZNAME:PST
DTSTART:20241103T090000
END:STANDARD
BEGIN:DAYLIGHT
TZOFFSETFROM:-0800
TZOFFSETTO:-0700
TZNAME:PDT
DTSTART:20250309T100000
END:DAYLIGHT
BEGIN:STANDARD
TZOFFSETFROM:-0700
TZOFFSETTO:-0800
TZNAME:PST
DTSTART:20251102T090000
END:STANDARD
END:VTIMEZONE
BEGIN:VEVENT
DTSTART;TZID=America/Los_Angeles:20240628T080000
DTEND;TZID=America/Los_Angeles:20240825T170000
DTSTAMP:20260425T120233
CREATED:20240614T165504Z
LAST-MODIFIED:20240614T165504Z
UID:11284-1719561600-1724605200@renoarts.news
SUMMARY:Lake Tahoe Shakespeare Festival
DESCRIPTION:Your dreams become reality at Lake Tahoe Shakespeare Festival with our blockbuster 2024 season\, featuring Shakespeare’s Merry Wives of Windsor – and Always…Patsy Cline musical. Enjoy al fresco dining at one of the most scenic venues in the world.\nImagine enjoying extraordinary entertainment while sitting under the stars on the white sand beach of Sand Harbor with the indescribable beauty of Lake Tahoe in the background.\nTicket prices for adults range from $29-$110. Youth tickets are $17-$22\, applicable for anyone 25 and under.\nBuy tickets to both shows and save! Discounts are also available for groups of 10 or more.\nFor tickets please call 1(800) 74-SHOWS or visit our website at LakeTahoeShakespeare.com.
URL:https://renoarts.news/event/lake-tahoe-shakespeare-festival
LOCATION:Sand Harbor\, 2005 NV-28\, Incline Village\, NV\, 89452\, United States
CATEGORIES:Theatre Performance
END:VEVENT
END:VCALENDAR